BEGIN:VCALENDAR
VERSION:2.0
PRODID:-// - ECPv6.15.20//NONSGML v1.0//EN
CALSCALE:GREGORIAN
METHOD:PUBLISH
X-ORIGINAL-URL:https://civilubro.se
X-WR-CALDESC:Händelser för 
REFRESH-INTERVAL;VALUE=DURATION:PT1H
X-Robots-Tag:noindex
X-PUBLISHED-TTL:PT1H
BEGIN:VTIMEZONE
TZID:Europe/Stockholm
BEGIN:DAYLIGHT
TZOFFSETFROM:+0100
TZOFFSETTO:+0200
TZNAME:CEST
DTSTART:20240331T010000
END:DAYLIGHT
BEGIN:STANDARD
TZOFFSETFROM:+0200
TZOFFSETTO:+0100
TZNAME:CET
DTSTART:20241027T010000
END:STANDARD
BEGIN:DAYLIGHT
TZOFFSETFROM:+0100
TZOFFSETTO:+0200
TZNAME:CEST
DTSTART:20250330T010000
END:DAYLIGHT
BEGIN:STANDARD
TZOFFSETFROM:+0200
TZOFFSETTO:+0100
TZNAME:CET
DTSTART:20251026T010000
END:STANDARD
BEGIN:DAYLIGHT
TZOFFSETFROM:+0100
TZOFFSETTO:+0200
TZNAME:CEST
DTSTART:20260329T010000
END:DAYLIGHT
BEGIN:STANDARD
TZOFFSETFROM:+0200
TZOFFSETTO:+0100
TZNAME:CET
DTSTART:20261025T010000
END:STANDARD
END:VTIMEZONE
BEGIN:VEVENT
DTSTART;TZID=Europe/Stockholm:20251105T180000
DTEND;TZID=Europe/Stockholm:20251105T203000
DTSTAMP:20260422T230901
CREATED:20251108T141519Z
LAST-MODIFIED:20251108T193501Z
UID:89-1762365600-1762374600@civilubro.se
SUMMARY:Föreläsning: Röjning och räddning
DESCRIPTION:Den 5 november kl 18.00-20.30 på Brandstationen i Bro genomför vi en första informationsträff kring vad som krävs för att rädda liv vid husras samt FRGs roll vid en sådan händelse. Instruktör är Kiril Hristov som är brandman vid Attunda i Sollentuna och specialiserad på husras. Kiril var bland annat med och räddade liv vid jordbävningen i Turkiet. \nDet kostar inget att delta\, vi bjuder på kaffe\, te och fikabröd. \nVälkommen med din anmälan till upplands-bro@civil2.se
URL:https://civilubro.se/event/forelasning-rojning-och-raddning/
LOCATION:Brandstationen i Bro\, Sweden
ORGANIZER;CN="Civilf%C3%B6rsvarsf%C3%B6reningen Upplands-Bro":MAILTO:upplands-bro@civil2.se
END:VEVENT
BEGIN:VEVENT
DTSTART;TZID=Europe/Stockholm:20251109T160000
DTEND;TZID=Europe/Stockholm:20251109T180000
DTSTAMP:20260422T230901
CREATED:20251108T211416Z
LAST-MODIFIED:20251108T211416Z
UID:172-1762704000-1762711200@civilubro.se
SUMMARY:Styrelsemöte
DESCRIPTION:Möte för styrelsen i Civilförsvarsföreningen Upplands-Bro.
URL:https://civilubro.se/event/styrelsemote/
LOCATION:Klöv\, Bro
ORGANIZER;CN="Civilf%C3%B6rsvarsf%C3%B6reningen Upplands-Bro":MAILTO:upplands-bro@civil2.se
END:VEVENT
BEGIN:VEVENT
DTSTART;TZID=Europe/Stockholm:20251112T180000
DTEND;TZID=Europe/Stockholm:20251112T203000
DTSTAMP:20260422T230901
CREATED:20251108T142702Z
LAST-MODIFIED:20251108T193416Z
UID:97-1762970400-1762979400@civilubro.se
SUMMARY:Utbildning: Bemöta människor i kris
DESCRIPTION:Den 12 november kl 18.00-21.00 i Florasalen\, Blomstervägen 9B\, Bro genomför vi en utbildning om hur vi ska bemöta människor i kris. Ingrid George är erfaren instruktör och kommer att tillsammans med Mattias Jarl\, POSOM chef i kommunen\, att utbilda oss så att vi kan agera på ett bra sätt när vi möter människor i kris och krig. \nDet kostar inget att delta\, vi bjuder på kaffe\, te och fikabröd. \nVälkommen med din anmälan till upplands-bro@civil2.se
URL:https://civilubro.se/event/utbildning-bemota-manniskor-i-kris/
LOCATION:Florasalen\, Blomstervägen 9B\, Bro
ORGANIZER;CN="Civilf%C3%B6rsvarsf%C3%B6reningen Upplands-Bro":MAILTO:upplands-bro@civil2.se
END:VEVENT
BEGIN:VEVENT
DTSTART;TZID=Europe/Stockholm:20251118T180000
DTEND;TZID=Europe/Stockholm:20251118T190000
DTSTAMP:20260422T230901
CREATED:20251109T121226Z
LAST-MODIFIED:20251109T121838Z
UID:323-1763488800-1763492400@civilubro.se
SUMMARY:Civilförsvarsförbundet: webbutbildning hemberedskap
DESCRIPTION:Utbildningen kring hemberedskap syftar till att ge dig en stärkt förmåga att själv hantera konsekvenserna av en kris och tillgodose grundläggande behov som mat\, vatten\, värme och information. \nAnmäl dig via formulär här
URL:https://civilubro.se/event/civilforsvarsforbundet-webbutbildning-hemberedskap/
LOCATION:Digitalt
END:VEVENT
BEGIN:VEVENT
DTSTART;TZID=Europe/Stockholm:20251125T180000
DTEND;TZID=Europe/Stockholm:20251125T190000
DTSTAMP:20260422T230901
CREATED:20251109T121711Z
LAST-MODIFIED:20251109T121930Z
UID:329-1764093600-1764097200@civilubro.se
SUMMARY:Civilförsvarsförbundet: webbutbildning säkrare vinter
DESCRIPTION:Utbildningens mål är att ge grundläggande kunskaper om att hantera vintern på ett säkert sätt. Hur vi gör tillvaron lite säkrare och förebygger skador.\nHemma\, utomhus och inomhus\, på vägen\, i bilen eller till fots. \nAnmäl dig via formulär här
URL:https://civilubro.se/event/civilforsvarsforbundet-webbutbildning-sakrare-vinter/
LOCATION:Digitalt
END:VEVENT
BEGIN:VEVENT
DTSTART;TZID=Europe/Stockholm:20251126T180000
DTEND;TZID=Europe/Stockholm:20251126T203000
DTSTAMP:20260422T230901
CREATED:20251108T143012Z
LAST-MODIFIED:20251108T193322Z
UID:100-1764180000-1764189000@civilubro.se
SUMMARY:Utbildning: Elsäkerhet
DESCRIPTION:Den 26 november kl 18.00-21.00 i Florasalen\, Blomstervägen 9B\, Bro genomför vi en utbildning om elsäkerhet och lastberäkning när vi sätter ut mobila elverk och drar kabel i terräng.  Vi blir inga elektriker men förstår lite mer om vad vi ska göra för att det ska fungera och vara säkert. Instruktör är Patrik Olin som är erfaren eventarrangör. Han planerar och ordnar elförsörjning till förbrukare vid olika större event i Stockholmsområdet. \nDet kostar inget att delta\, vi bjuder på kaffe\, te och fikabröd. \nVälkommen med din anmälan till upplands-bro@civil2.se
URL:https://civilubro.se/event/utbildning-elsakerhet/
LOCATION:Florasalen\, Blomstervägen 9B\, Bro
ORGANIZER;CN="Civilf%C3%B6rsvarsf%C3%B6reningen Upplands-Bro":MAILTO:upplands-bro@civil2.se
END:VEVENT
END:VCALENDAR