BEGIN:VCALENDAR
VERSION:2.0
PRODID:-// - ECPv6.15.20//NONSGML v1.0//EN
CALSCALE:GREGORIAN
METHOD:PUBLISH
X-ORIGINAL-URL:https://civilubro.se
X-WR-CALDESC:Händelser för 
REFRESH-INTERVAL;VALUE=DURATION:PT1H
X-Robots-Tag:noindex
X-PUBLISHED-TTL:PT1H
BEGIN:VTIMEZONE
TZID:Europe/Stockholm
BEGIN:DAYLIGHT
TZOFFSETFROM:+0100
TZOFFSETTO:+0200
TZNAME:CEST
DTSTART:20240331T010000
END:DAYLIGHT
BEGIN:STANDARD
TZOFFSETFROM:+0200
TZOFFSETTO:+0100
TZNAME:CET
DTSTART:20241027T010000
END:STANDARD
BEGIN:DAYLIGHT
TZOFFSETFROM:+0100
TZOFFSETTO:+0200
TZNAME:CEST
DTSTART:20250330T010000
END:DAYLIGHT
BEGIN:STANDARD
TZOFFSETFROM:+0200
TZOFFSETTO:+0100
TZNAME:CET
DTSTART:20251026T010000
END:STANDARD
BEGIN:DAYLIGHT
TZOFFSETFROM:+0100
TZOFFSETTO:+0200
TZNAME:CEST
DTSTART:20260329T010000
END:DAYLIGHT
BEGIN:STANDARD
TZOFFSETFROM:+0200
TZOFFSETTO:+0100
TZNAME:CET
DTSTART:20261025T010000
END:STANDARD
END:VTIMEZONE
BEGIN:VEVENT
DTSTART;TZID=Europe/Stockholm:20251202T180000
DTEND;TZID=Europe/Stockholm:20251202T190000
DTSTAMP:20260422T212526
CREATED:20251109T121358Z
LAST-MODIFIED:20251109T121903Z
UID:327-1764698400-1764702000@civilubro.se
SUMMARY:Civilförsvarsförbundet: webbutbildning hemberedskap
DESCRIPTION:Utbildningen kring hemberedskap syftar till att ge dig en stärkt förmåga att själv hantera konsekvenserna av en kris och tillgodose grundläggande behov som mat\, vatten\, värme och information. \nAnmäl dig via formulär här
URL:https://civilubro.se/event/civilforsvarsforbundet-webbutbildning-hemberedskap-2/
LOCATION:Digitalt
END:VEVENT
BEGIN:VEVENT
DTSTART;TZID=Europe/Stockholm:20251208T183000
DTEND;TZID=Europe/Stockholm:20251208T203000
DTSTAMP:20260422T212526
CREATED:20251108T150226Z
LAST-MODIFIED:20251108T193348Z
UID:113-1765218600-1765225800@civilubro.se
SUMMARY:Informationsträff för nya
DESCRIPTION:Upplands-Bro civilförsvarsförening söker personer som vill engagera sig i Frivillig Resursgrupp (FRG) och genomföra uppdrag vid kris och ytterst krig. \nVid informationsträffen får du mer information om utbildningar\, övningar och insatser där det behövs frivilligresurser.\nDet kan till exempel vara inom områden som: \n– Vatten (ex. upprätta och bevaka nödvattentank)\n– Mat (ex. upprätta kokvagn\, storskalig matlagning och utspisning)\n– El (ex. upprätta reservelverk och inre elnät)\n– Sjukvård (ex. första hjälpen\, stoppa blödning\, HLR och psykologiskt stöd)\n– Brandbekämpning och röjning (ex. eftersläckning\, bevakning och röjning av rasmassor)\n– Fordon (ex. hantera terrängbil\, truck\, lastare och grävare) \nDet kostar ingenting att delta\, vi bjuder på kaffe\, te och fikabröd. \nAnmäl dig till: upplands-bro.frg@civil2.se
URL:https://civilubro.se/event/informationstraff-for-nya/
LOCATION:Lokal Nuet\, Dagcentralen\, Torget 4\, Kungsängen
ORGANIZER;CN="Civilf%C3%B6rsvarsf%C3%B6reningen Upplands-Bro":MAILTO:upplands-bro@civil2.se
END:VEVENT
BEGIN:VEVENT
DTSTART;TZID=Europe/Stockholm:20251209T180000
DTEND;TZID=Europe/Stockholm:20251209T190000
DTSTAMP:20260422T212526
CREATED:20251109T122056Z
LAST-MODIFIED:20251109T122056Z
UID:335-1765303200-1765306800@civilubro.se
SUMMARY:Civilförsvarsförbundet: webbutbildning säkrare vinter
DESCRIPTION:Utbildningens mål är att ge grundläggande kunskaper om att hantera vintern på ett säkert sätt. Hur vi gör tillvaron lite säkrare och förebygger skador.\nHemma\, utomhus och inomhus\, på vägen\, i bilen eller till fots. \nAnmäl dig via formulär här
URL:https://civilubro.se/event/civilforsvarsforbundet-webbutbildning-sakrare-vinter-2/
LOCATION:Digitalt
END:VEVENT
BEGIN:VEVENT
DTSTART;TZID=Europe/Stockholm:20251210T090000
DTEND;TZID=Europe/Stockholm:20251210T120000
DTSTAMP:20260422T212526
CREATED:20251108T211913Z
LAST-MODIFIED:20251108T211913Z
UID:175-1765357200-1765368000@civilubro.se
SUMMARY:Styrgruppsmöte
DESCRIPTION:Representanter för Civilförsvarsföreningen Upplands-Bro\, Frivillig Resursgrupp (FRG) och Upplands-Bro kommun ses för att följa upp verksamhetsplanering för FRG.
URL:https://civilubro.se/event/styrgruppsmote/
LOCATION:Brohuset\, Bro centrum
END:VEVENT
END:VCALENDAR