BEGIN:VCALENDAR
VERSION:2.0
PRODID:-// - ECPv6.15.20//NONSGML v1.0//EN
CALSCALE:GREGORIAN
METHOD:PUBLISH
X-ORIGINAL-URL:https://civilubro.se
X-WR-CALDESC:Händelser för 
REFRESH-INTERVAL;VALUE=DURATION:PT1H
X-Robots-Tag:noindex
X-PUBLISHED-TTL:PT1H
BEGIN:VTIMEZONE
TZID:Europe/Stockholm
BEGIN:DAYLIGHT
TZOFFSETFROM:+0100
TZOFFSETTO:+0200
TZNAME:CEST
DTSTART:20250330T010000
END:DAYLIGHT
BEGIN:STANDARD
TZOFFSETFROM:+0200
TZOFFSETTO:+0100
TZNAME:CET
DTSTART:20251026T010000
END:STANDARD
BEGIN:DAYLIGHT
TZOFFSETFROM:+0100
TZOFFSETTO:+0200
TZNAME:CEST
DTSTART:20260329T010000
END:DAYLIGHT
BEGIN:STANDARD
TZOFFSETFROM:+0200
TZOFFSETTO:+0100
TZNAME:CET
DTSTART:20261025T010000
END:STANDARD
BEGIN:DAYLIGHT
TZOFFSETFROM:+0100
TZOFFSETTO:+0200
TZNAME:CEST
DTSTART:20270328T010000
END:DAYLIGHT
BEGIN:STANDARD
TZOFFSETFROM:+0200
TZOFFSETTO:+0100
TZNAME:CET
DTSTART:20271031T010000
END:STANDARD
END:VTIMEZONE
BEGIN:VEVENT
DTSTART;TZID=Europe/Stockholm:20260111T160000
DTEND;TZID=Europe/Stockholm:20260111T180000
DTSTAMP:20260422T194542
CREATED:20260111T105755Z
LAST-MODIFIED:20260111T105755Z
UID:364-1768147200-1768154400@civilubro.se
SUMMARY:Styrelsemöte Upplands-Bro Civilförsvarsförening
DESCRIPTION:Styrelsen för Upplands-Bro Civilförsvarsförening håller sitt första möte för året och konkretiserar bland annat verksamhetsplan för 2026 och slutför verksamhetsredovisning för 2025.
URL:https://civilubro.se/event/styrelsemote-upplands-bro-civilforsvarsforening/
LOCATION:Klöv\, Bro
END:VEVENT
BEGIN:VEVENT
DTSTART;TZID=Europe/Stockholm:20260114T183000
DTEND;TZID=Europe/Stockholm:20260114T203000
DTSTAMP:20260422T194542
CREATED:20251108T210344Z
LAST-MODIFIED:20260111T105935Z
UID:170-1768415400-1768422600@civilubro.se
SUMMARY:Informationsträff för nya
DESCRIPTION:Upplands-Bro civilförsvarsförening söker personer som vill engagera sig i Frivillig Resursgrupp (FRG) och genomföra uppdrag vid kris och ytterst krig. \nVid informationsträffen får du mer information om utbildningar\, övningar och insatser där det behövs frivilligresurser.\nDet kan till exempel vara inom områden som: \n– Vatten (ex. upprätta och bevaka nödvattentank)\n– Mat (ex. upprätta kokvagn\, storskalig matlagning och utspisning)\n– El (ex. upprätta reservelverk och inre elnät)\n– Sjukvård (ex. första hjälpen\, stoppa blödning\, HLR och psykologiskt stöd)\n– Brandbekämpning och röjning (ex. eftersläckning\, bevakning och röjning av rasmassor)\n– Fordon (ex. hantera terrängbil\, truck\, lastare och grävare) \nDet kostar ingenting att delta\, vi bjuder på kaffe\, te och fikabröd. \nAnmäl dig till: upplands-bro.frg@civil2.se
URL:https://civilubro.se/event/informationstraff-for-nya-2/
LOCATION:Lokal Nuet\, Dagcentralen\, Torget 4\, Kungsängen
END:VEVENT
BEGIN:VEVENT
DTSTART;TZID=Europe/Stockholm:20260120T180000
DTEND;TZID=Europe/Stockholm:20260120T203000
DTSTAMP:20260422T194542
CREATED:20260111T111211Z
LAST-MODIFIED:20260117T083926Z
UID:367-1768932000-1768941000@civilubro.se
SUMMARY:Uppstart 2026 och information om vad du kan vara med och göra
DESCRIPTION:Uppstart 2026 och träff om vårt civila försvar i Upplands-Bro\n\nI en värld där vi värnar om familjens\, vänners och samhällets trygghet känns det som att utvecklingen går i fel riktning med alla utspel\, oroligheter och krig i vår omvärld. Men vi gör vad vi kan för att vara förberedda på kriser\, här i vår egen kommun. Vi inleder året med en träff för medlemmar i Upplands-Bro Civilförsvarsförening och deltagare i FRG samt representanter från Upplands-Bro kommun.\n\nSyftet med mötet är att uppdatera dig om allt spännande som händer i kommunen när det gäller beredskapsfrågor och vad föreningen planerar att göra under året.\nFörra året hade vi aktiviteter varje månad och det blir så i år också. Det är viktigt att du kommer och kan anmäla ditt intresse för att delta inom något av huvudområdena vi och kommunen satsar på. Du kan också lämna dina synpunkter på årets förslag till verksamhetsplan och även föreslå nya områden du tycker vi ska satsa på.\n\nVi bjuder på kaffe\, te\, smörgåsar\, fikabröd från 17.30.\n\nAnmäl ditt deltagande till upplands-bro@civil2.se\n\nVälkommen\n\nför Styrelsen i Upplands-Bro Civilförsvarsförening\, ordförande Per Berkhuizen\nför Upplands-Bro Kommun\, Mattias Jarl\, tf Trygghets- och Säkerhetschef
URL:https://civilubro.se/event/uppstart-2026-och-information-om-vad-du-kan-vara-med-och-gora/
LOCATION:Florasalen\, Bro\, Blomstervägen 9B\, Bro
END:VEVENT
BEGIN:VEVENT
DTSTART;TZID=Europe/Stockholm:20260128T180000
DTEND;TZID=Europe/Stockholm:20260128T203000
DTSTAMP:20260422T194542
CREATED:20260127T180355Z
LAST-MODIFIED:20260127T180355Z
UID:386-1769623200-1769632200@civilubro.se
SUMMARY:Bullerdämpning av elverk
DESCRIPTION:De mindre elverk vi kan komma att använda vid insats bullrar väldigt mycket. Vi ska under kvällen testa olika metoder för att dämpa bullret från elverk och mäta ljudnivån för att hitta en eller flera bra enkla bullerdämpningsmetoder. Vi testar elverk\, byggcentraler\, kabeldragning och bullerskydd. \nAnmäl dig direkt\, till upplands-bro@civil2.se\, så vi hinner ordna inköp av kaffe och fikabröd till dig. Kaffe finns från 17.40. \nVälkommen!
URL:https://civilubro.se/event/bullerdampning-av-elverk/
LOCATION:Klöv\, Bro
END:VEVENT
END:VCALENDAR