BEGIN:VCALENDAR
VERSION:2.0
PRODID:-// - ECPv6.15.20//NONSGML v1.0//EN
CALSCALE:GREGORIAN
METHOD:PUBLISH
X-ORIGINAL-URL:https://civilubro.se
X-WR-CALDESC:Händelser för 
REFRESH-INTERVAL;VALUE=DURATION:PT1H
X-Robots-Tag:noindex
X-PUBLISHED-TTL:PT1H
BEGIN:VTIMEZONE
TZID:Europe/Stockholm
BEGIN:DAYLIGHT
TZOFFSETFROM:+0100
TZOFFSETTO:+0200
TZNAME:CEST
DTSTART:20250330T010000
END:DAYLIGHT
BEGIN:STANDARD
TZOFFSETFROM:+0200
TZOFFSETTO:+0100
TZNAME:CET
DTSTART:20251026T010000
END:STANDARD
BEGIN:DAYLIGHT
TZOFFSETFROM:+0100
TZOFFSETTO:+0200
TZNAME:CEST
DTSTART:20260329T010000
END:DAYLIGHT
BEGIN:STANDARD
TZOFFSETFROM:+0200
TZOFFSETTO:+0100
TZNAME:CET
DTSTART:20261025T010000
END:STANDARD
BEGIN:DAYLIGHT
TZOFFSETFROM:+0100
TZOFFSETTO:+0200
TZNAME:CEST
DTSTART:20270328T010000
END:DAYLIGHT
BEGIN:STANDARD
TZOFFSETFROM:+0200
TZOFFSETTO:+0100
TZNAME:CET
DTSTART:20271031T010000
END:STANDARD
END:VTIMEZONE
BEGIN:VEVENT
DTSTART;TZID=Europe/Stockholm:20260303T180000
DTEND;TZID=Europe/Stockholm:20260303T203000
DTSTAMP:20260422T165304
CREATED:20260208T132212Z
LAST-MODIFIED:20260211T155641Z
UID:418-1772560800-1772569800@civilubro.se
SUMMARY:Informationsträff för nya
DESCRIPTION:Upplands-Bro civilförsvarsförening söker personer som vill engagera sig i Frivillig Resursgrupp (FRG) och genomföra uppdrag vid kris och ytterst krig. \nVid informationsträffen får du mer information om utbildningar\, övningar och insatser där det behövs frivilligresurser.\nDet kan till exempel vara inom områden som: \n– Vatten (ex. upprätta och bevaka nödvattentank)\n– Mat (ex. upprätta kokvagn\, storskalig matlagning och utspisning)\n– El (ex. upprätta reservelverk och inre elnät)\n– Sjukvård (ex. första hjälpen\, stoppa blödning\, HLR och psykologiskt stöd)\n– Brandbekämpning och röjning (ex. eftersläckning\, bevakning och röjning av rasmassor)\n– Fordon (ex. hantera terrängbil\, truck\, lastare och grävare) \nDet kostar ingenting att delta\, vi bjuder på kaffe\, te och fika. \nFör frågor och anmälan: upplands-bro.frg@civil2.se \nVälkommen!
URL:https://civilubro.se/event/informationstraff-for-nya-4/
LOCATION:Lokal Nuet\, Dagcentralen\, Kungsängen\, Torget 4\, Kungsängen
END:VEVENT
BEGIN:VEVENT
DTSTART;TZID=Europe/Stockholm:20260312T180000
DTEND;TZID=Europe/Stockholm:20260312T210000
DTSTAMP:20260422T165304
CREATED:20260211T132057Z
LAST-MODIFIED:20260211T155943Z
UID:424-1773338400-1773349200@civilubro.se
SUMMARY:Utbildning: kommunkunskap
DESCRIPTION:Som en del av FRG grundutbildning hålls ett pass om samhällets krishanteringssystem och Upplands-Bro kommun  informerar om sitt arbete\, organisation och kriskommunikation.\nAlla medlemmar i föreningen och de som redan är med i FRG är också välkomna. \nVi bjuder på kaffe\, te och fika. \nFör frågor och anmälan: upplands-bro@civil2.se \nVälkommen!
URL:https://civilubro.se/event/utbildning-kommunkunskap/
LOCATION:Florasalen\, Bro\, Blomstervägen 9B\, Bro
END:VEVENT
BEGIN:VEVENT
DTSTART;TZID=Europe/Stockholm:20260314T090000
DTEND;TZID=Europe/Stockholm:20260314T170000
DTSTAMP:20260422T165304
CREATED:20260211T161150Z
LAST-MODIFIED:20260211T162825Z
UID:436-1773478800-1773507600@civilubro.se
SUMMARY:Utbildningsdag: att möta människor i kris\, samhällets sårbarhet och stabstjänst
DESCRIPTION:Som en del av FRG grundutbildning hålls en utbildningsdag med fokus på tre delar.\n1. Att möta människor i kris\, instruktör Ingrid George\n– traumatiska händelser och våra reaktioner\n– kommunens arbete inom krisstöd\n– medmänskligt stöd \n2. Samhällets sårbarhet och våra möjligheter\, instruktör Gittan Rrotkopf\n– hot och risker i samhället inklusive olycks- och skadebilden\n– människans grundbehov och hur man tillgodoser dem i utsatta lägen\n– samhällets resurser\n– praktiska övningar\, t ex hemberedskap i utemiljö \n3. Stabstjänst\, instruktör FRG ansvarig Per Berkhuizen\nOm hur FRG kan stödja den kommunala krishanteringsorganisationen genom att ta emot\, organisera och genomföra tilldelade arbetsuppgifter. \nAlla medlemmar i föreningen och de som redan är med i FRG är också välkomna. \nVi bjuder på kaffe\, te och fika samt lunch. \nFör frågor och anmälan: upplands-bro@civil2.se \nVälkommen!
URL:https://civilubro.se/event/utbildningsdag-att-mota-manniskor-i-kris-samhallets-sarbarhet-och-stabstjanst/
LOCATION:Florasalen\, Bro\, Blomstervägen 9B\, Bro
END:VEVENT
BEGIN:VEVENT
DTSTART;TZID=Europe/Stockholm:20260317T180000
DTEND;TZID=Europe/Stockholm:20260317T210000
DTSTAMP:20260422T165304
CREATED:20260127T181304Z
LAST-MODIFIED:20260211T160400Z
UID:390-1773770400-1773781200@civilubro.se
SUMMARY:Utbildning och övning: första hjälpen och stoppa blödningen
DESCRIPTION:Som en del av FRG grundutbildning hålls ett pass kring första hjälpen och stoppa blödningen. Instruktörer är Hans Rosenthal och Lars Samuelsson från Civilförsvarsförbundets Stockholmsdistrikts akutgrupp. \nAlla medlemmar i föreningen och de som redan är med i FRG är också välkomna. \nVi bjuder på kaffe\, te och fika. \nFör frågor och anmälan: upplands-bro@civil2.se \nVälkommen!
URL:https://civilubro.se/event/utbildning-forsta-hjalpen-och-stoppa-blodningen/
LOCATION:Florasalen\, Bro\, Blomstervägen 9B\, Bro
END:VEVENT
BEGIN:VEVENT
DTSTART;TZID=Europe/Stockholm:20260324T180000
DTEND;TZID=Europe/Stockholm:20260324T200000
DTSTAMP:20260422T165304
CREATED:20260127T184305Z
LAST-MODIFIED:20260211T162114Z
UID:392-1774375200-1774382400@civilubro.se
SUMMARY:Årsstämma: Upplands-Bro civilförsvarsförening
DESCRIPTION:Föreningens årsstämma är det högsta beslutande organet där medlemmar utövar sin rösträtt\, granskar verksamheten och väljer styrelse.\nVi bjuder på kaffe\, te och fika. \nFör frågor och anmälan: upplands-bro@civil2.se \nVälkommen!
URL:https://civilubro.se/event/arsstamma-upplands-bro-civilforsvarsforening/
END:VEVENT
END:VCALENDAR