BEGIN:VCALENDAR
VERSION:2.0
PRODID:-// - ECPv6.15.20//NONSGML v1.0//EN
CALSCALE:GREGORIAN
METHOD:PUBLISH
X-ORIGINAL-URL:https://civilubro.se
X-WR-CALDESC:Händelser för 
REFRESH-INTERVAL;VALUE=DURATION:PT1H
X-Robots-Tag:noindex
X-PUBLISHED-TTL:PT1H
BEGIN:VTIMEZONE
TZID:Europe/Stockholm
BEGIN:DAYLIGHT
TZOFFSETFROM:+0100
TZOFFSETTO:+0200
TZNAME:CEST
DTSTART:20250330T010000
END:DAYLIGHT
BEGIN:STANDARD
TZOFFSETFROM:+0200
TZOFFSETTO:+0100
TZNAME:CET
DTSTART:20251026T010000
END:STANDARD
BEGIN:DAYLIGHT
TZOFFSETFROM:+0100
TZOFFSETTO:+0200
TZNAME:CEST
DTSTART:20260329T010000
END:DAYLIGHT
BEGIN:STANDARD
TZOFFSETFROM:+0200
TZOFFSETTO:+0100
TZNAME:CET
DTSTART:20261025T010000
END:STANDARD
BEGIN:DAYLIGHT
TZOFFSETFROM:+0100
TZOFFSETTO:+0200
TZNAME:CEST
DTSTART:20270328T010000
END:DAYLIGHT
BEGIN:STANDARD
TZOFFSETFROM:+0200
TZOFFSETTO:+0100
TZNAME:CET
DTSTART:20271031T010000
END:STANDARD
END:VTIMEZONE
BEGIN:VEVENT
DTSTART;TZID=Europe/Stockholm:20260604T180000
DTEND;TZID=Europe/Stockholm:20260604T203000
DTSTAMP:20260422T184111
CREATED:20260127T185105Z
LAST-MODIFIED:20260127T185105Z
UID:400-1780596000-1780605000@civilubro.se
SUMMARY:Utbildning och övning: brand
DESCRIPTION:Brandutbildning/övning\, Brandkåren Bro.
URL:https://civilubro.se/event/utbildning-och-ovning-brand/
LOCATION:Brandstationen i Bro\, Sweden
END:VEVENT
BEGIN:VEVENT
DTSTART;TZID=Europe/Stockholm:20260616T180000
DTEND;TZID=Europe/Stockholm:20260616T210000
DTSTAMP:20260422T184111
CREATED:20260127T185258Z
LAST-MODIFIED:20260211T163700Z
UID:402-1781632800-1781643600@civilubro.se
SUMMARY:Utbildning och övning: Starlink
DESCRIPTION:Starlink installation\, uppsättning och användning. \nVi bjuder på kaffe\, te och fika. \nFör frågor och anmälan: upplands-bro@civil2.se \nVälkommen!
URL:https://civilubro.se/event/utbildning-och-traning-starlink/
LOCATION:Klöv\, Bro
END:VEVENT
END:VCALENDAR