BEGIN:VCALENDAR
VERSION:2.0
PRODID:-// - ECPv6.15.20//NONSGML v1.0//EN
CALSCALE:GREGORIAN
METHOD:PUBLISH
X-ORIGINAL-URL:https://civilubro.se
X-WR-CALDESC:Händelser för 
REFRESH-INTERVAL;VALUE=DURATION:PT1H
X-Robots-Tag:noindex
X-PUBLISHED-TTL:PT1H
BEGIN:VTIMEZONE
TZID:Europe/Stockholm
BEGIN:DAYLIGHT
TZOFFSETFROM:+0100
TZOFFSETTO:+0200
TZNAME:CEST
DTSTART:20250330T010000
END:DAYLIGHT
BEGIN:STANDARD
TZOFFSETFROM:+0200
TZOFFSETTO:+0100
TZNAME:CET
DTSTART:20251026T010000
END:STANDARD
BEGIN:DAYLIGHT
TZOFFSETFROM:+0100
TZOFFSETTO:+0200
TZNAME:CEST
DTSTART:20260329T010000
END:DAYLIGHT
BEGIN:STANDARD
TZOFFSETFROM:+0200
TZOFFSETTO:+0100
TZNAME:CET
DTSTART:20261025T010000
END:STANDARD
BEGIN:DAYLIGHT
TZOFFSETFROM:+0100
TZOFFSETTO:+0200
TZNAME:CEST
DTSTART:20270328T010000
END:DAYLIGHT
BEGIN:STANDARD
TZOFFSETFROM:+0200
TZOFFSETTO:+0100
TZNAME:CET
DTSTART:20271031T010000
END:STANDARD
END:VTIMEZONE
BEGIN:VEVENT
DTSTART;TZID=Europe/Stockholm:20260917T180000
DTEND;TZID=Europe/Stockholm:20260917T210000
DTSTAMP:20260422T233851
CREATED:20260127T185937Z
LAST-MODIFIED:20260127T185937Z
UID:407-1789668000-1789678800@civilubro.se
SUMMARY:Uppstart FRG grundutbildning
DESCRIPTION:Upplands-Bro kommun informerar om hotbilder och åtgärder samt hur kommunen organiserar och kommunicerar vid kris. \n(Övriga datum för grundutbildningen 19 sept\, 3 oktober samt 8 okt kl 18.00-21.00.)
URL:https://civilubro.se/event/uppstart-frg-grundutbildning/
END:VEVENT
BEGIN:VEVENT
DTSTART;TZID=Europe/Stockholm:20260919T110000
DTEND;TZID=Europe/Stockholm:20260919T150000
DTSTAMP:20260422T233851
CREATED:20260117T082835Z
LAST-MODIFIED:20260117T083457Z
UID:374-1789815600-1789830000@civilubro.se
SUMMARY:Aktivitet vid Brandkårens öppet hus
DESCRIPTION:
URL:https://civilubro.se/event/aktivitet-vid-brandkarens-oppet-hus/
LOCATION:Brandstationen i Bro\, Sweden
END:VEVENT
BEGIN:VEVENT
DTSTART;TZID=Europe/Stockholm:20260924T090000
DTEND;TZID=Europe/Stockholm:20260924T120000
DTSTAMP:20260422T233851
CREATED:20260127T190046Z
LAST-MODIFIED:20260127T190046Z
UID:409-1790240400-1790251200@civilubro.se
SUMMARY:Övning: Samlad vård- och omsorgsplats
DESCRIPTION:
URL:https://civilubro.se/event/ovning-samlad-vard-och-omsorgsplats/
END:VEVENT
BEGIN:VEVENT
DTSTART;TZID=Europe/Stockholm:20260926T090000
DTEND;TZID=Europe/Stockholm:20260926T160000
DTSTAMP:20260422T233851
CREATED:20260117T083221Z
LAST-MODIFIED:20260117T083221Z
UID:376-1790413200-1790438400@civilubro.se
SUMMARY:Aktivitet vid beredskapsdag
DESCRIPTION:Under beredskapsvecka 39 ordnas flera olika event i Upplands-Bro kommun. Vi deltar bland annat på lördagens beredskapsdag.
URL:https://civilubro.se/event/aktivitet-vid-beredskapsdag/
END:VEVENT
END:VCALENDAR